BEGIN:VCALENDAR
PRODID:-//45.79.5.212//NONSGML iCalcreator 2.6//
VERSION:2.0
BEGIN:VEVENT
UID:20230806T211031CEST-9667Wj2Oww@45.79.5.212
DTSTAMP:20230806T191031Z
CATEGORIES:American University of Puerto Rico Events
DESCRIPTION:
DTSTART:20220808T000000
DTEND:20230208T000000
LOCATION:
SUMMARY:Fotos Cuadro de Honor Sup. Lino Padrón Rivera
END:VEVENT
END:VCALENDAR
