BEGIN:VCALENDAR
PRODID:-//45.79.5.212//NONSGML iCalcreator 2.6//
VERSION:2.0
BEGIN:VEVENT
UID:20230805T085026CEST-1796cNzxjj@45.79.5.212
DTSTAMP:20230805T065026Z
CATEGORIES:American University of Puerto Rico Events
DESCRIPTION:
DTSTART:20220729T000000
DTEND:20220629T000000
LOCATION:
SUMMARY:Reunión Profesional Directores\, ORE Bayamón
END:VEVENT
END:VCALENDAR
