BEGIN:VCALENDAR
PRODID:-//45.79.5.212//NONSGML iCalcreator 2.6//
VERSION:2.0
BEGIN:VEVENT
UID:20230806T123511CEST-3285SN8Ef0@45.79.5.212
DTSTAMP:20230806T103511Z
CATEGORIES:American University of Puerto Rico Events
DESCRIPTION:
DTSTART:20220729T000000
DTEND:20220629T000000
LOCATION:
SUMMARY:Taller: Transición Sup. Rubén Rodríguez
END:VEVENT
END:VCALENDAR
