BEGIN:VCALENDAR
PRODID:-//45.79.5.212//NONSGML iCalcreator 2.6//
VERSION:2.0
BEGIN:VEVENT
UID:20230805T150725CEST-8539vhVWvj@45.79.5.212
DTSTAMP:20230805T130725Z
CATEGORIES:American University of Puerto Rico Events
DESCRIPTION:
DTSTART:20220729T000000
DTEND:20220629T000000
LOCATION:
SUMMARY:Fotos Congreso de Líderes FBLA
END:VEVENT
END:VCALENDAR
