BEGIN:VCALENDAR
PRODID:-//45.79.5.212//NONSGML iCalcreator 2.6//
VERSION:2.0
BEGIN:VEVENT
UID:20230806T211053CEST-6629dmFUvl@45.79.5.212
DTSTAMP:20230806T191053Z
CATEGORIES:American University of Puerto Rico Events
DESCRIPTION:
DTSTART:20220729T000000
DTEND:20220629T000000
LOCATION:
SUMMARY:Fotos Cuadro de Honor Tomás &#8220\;Maso&#8221\; Rivera
END:VEVENT
END:VCALENDAR
