BEGIN:VCALENDAR
PRODID:-//45.79.5.212//NONSGML iCalcreator 2.6//
VERSION:2.0
BEGIN:VEVENT
UID:20230805T085835CEST-7688zkw0UU@45.79.5.212
DTSTAMP:20230805T065835Z
CATEGORIES:American University of Puerto Rico Events
DESCRIPTION:
DTSTART:20220729T000000
DTEND:20220629T000000
LOCATION:
SUMMARY:¡Felicidades Campeones!
END:VEVENT
END:VCALENDAR
