BEGIN:VCALENDAR
PRODID:-//45.79.5.212//NONSGML iCalcreator 2.6//
VERSION:2.0
BEGIN:VEVENT
UID:20230806T211127CEST-89981uXj8X@45.79.5.212
DTSTAMP:20230806T191127Z
CATEGORIES:American University of Puerto Rico Events
DESCRIPTION:
DTSTART:20220729T000000
DTEND:20220629T000000
LOCATION:
SUMMARY:FOTOS 1ER JUEGO AMERICAN VS. UAGM 25 DE ABRIL DE 2022
END:VEVENT
END:VCALENDAR
