BEGIN:VCALENDAR
PRODID:-//45.79.5.212//NONSGML iCalcreator 2.6//
VERSION:2.0
BEGIN:VEVENT
UID:20230806T211040CEST-1681UgrKv1@45.79.5.212
DTSTAMP:20230806T191040Z
CATEGORIES:American University of Puerto Rico Events
DESCRIPTION:
DTSTART:20220918T000000
DTEND:20220918T000000
LOCATION:
SUMMARY:Album: Casa Abierta &#8211\; CUM
END:VEVENT
END:VCALENDAR
