BEGIN:VCALENDAR
PRODID:-//45.79.5.212//NONSGML iCalcreator 2.6//
VERSION:2.0
BEGIN:VEVENT
UID:20230806T163230CEST-6619tcIs8H@45.79.5.212
DTSTAMP:20230806T143230Z
CATEGORIES:American University of Puerto Rico Events
DESCRIPTION:
DTSTART:20220918T000000
DTEND:20220629T000000
LOCATION:
SUMMARY:Album: FCCLA ¡Liderazgo\, servicio y juegos!
END:VEVENT
END:VCALENDAR
