BEGIN:VCALENDAR
PRODID:-//45.79.5.212//NONSGML iCalcreator 2.6//
VERSION:2.0
BEGIN:VEVENT
UID:20230806T211022CEST-7865Imexva@45.79.5.212
DTSTAMP:20230806T191022Z
CATEGORIES:American University of Puerto Rico Events
DESCRIPTION:
DTSTART:20220918T000000
DTEND:20220318T000000
LOCATION:
SUMMARY:Album: Juego Baloncesto AU vs. CU
END:VEVENT
END:VCALENDAR
