BEGIN:VCALENDAR
PRODID:-//45.79.5.212//NONSGML iCalcreator 2.6//
VERSION:2.0
BEGIN:VEVENT
UID:20230806T042814CEST-2586JLmXOR@45.79.5.212
DTSTAMP:20230806T022814Z
CATEGORIES:American University of Puerto Rico Events
DESCRIPTION:
DTSTART:20220503T000000
DTEND:20220103T000000
LOCATION:
SUMMARY:Video: Mes de la Nutrición (Terelys)
END:VEVENT
END:VCALENDAR
