BEGIN:VCALENDAR
PRODID:-//45.79.5.212//NONSGML iCalcreator 2.6//
VERSION:2.0
BEGIN:VEVENT
UID:20230806T211032CEST-5357T8BJVL@45.79.5.212
DTSTAMP:20230806T191032Z
CATEGORIES:American University of Puerto Rico Events
DESCRIPTION:
DTSTART:20220918T000000
DTEND:20220629T000000
LOCATION:
SUMMARY:Taller Motivación: Una Nueva Comprensión
END:VEVENT
END:VCALENDAR
