BEGIN:VCALENDAR
PRODID:-//45.79.5.212//NONSGML iCalcreator 2.6//
VERSION:2.0
BEGIN:VEVENT
UID:20230805T013908CEST-8082TU4i6c@45.79.5.212
DTSTAMP:20230805T233908Z
CATEGORIES:American University of Puerto Rico Events
DESCRIPTION:
DTSTART:20220729T000000
DTEND:20220629T000000
LOCATION:
SUMMARY:Repaso PAA PRYCA Clase 22-01
END:VEVENT
END:VCALENDAR
