BEGIN:VCALENDAR
PRODID:-//45.79.5.212//NONSGML iCalcreator 2.6//
VERSION:2.0
BEGIN:VEVENT
UID:20230806T211024CEST-54491x9G0t@45.79.5.212
DTSTAMP:20230806T191024Z
CATEGORIES:American University of Puerto Rico Events
DESCRIPTION:
DTSTART:20221029T000000
DTEND:20220113T000000
LOCATION:
SUMMARY:Inauguración / Reapertura Área de Juegos
END:VEVENT
END:VCALENDAR
