BEGIN:VCALENDAR
PRODID:-//45.79.5.212//NONSGML iCalcreator 2.6//
VERSION:2.0
BEGIN:VEVENT
UID:20230805T211047CEST-5583Hrkrdv@45.79.5.212
DTSTAMP:20230805T191047Z
CATEGORIES:American University of Puerto Rico Events
DESCRIPTION:
DTSTART:20221029T000000
DTEND:20220113T000000
LOCATION:
SUMMARY:Curso de Fotografía
END:VEVENT
END:VCALENDAR
