BEGIN:VCALENDAR
PRODID:-//45.79.5.212//NONSGML iCalcreator 2.6//
VERSION:2.0
BEGIN:VEVENT
UID:20230805T010143CEST-2712GHfnZ1@45.79.5.212
DTSTAMP:20230805T230143Z
CATEGORIES:American University of Puerto Rico Events
DESCRIPTION:
DTSTART:20220503T000000
DTEND:20220103T000000
LOCATION:
SUMMARY:Video: Tereleys Porrata Naturópata
END:VEVENT
END:VCALENDAR
