BEGIN:VCALENDAR
PRODID:-//45.79.5.212//NONSGML iCalcreator 2.6//
VERSION:2.0
BEGIN:VEVENT
UID:20230805T064428CEST-2923UMfkvE@45.79.5.212
DTSTAMP:20230805T044428Z
CATEGORIES:American University of Puerto Rico Events
DESCRIPTION:
DTSTART:20220921T000000
DTEND:20220113T000000
LOCATION:
SUMMARY:Álbum de Fotos AUPR VS. UPR-RP
END:VEVENT
END:VCALENDAR
