BEGIN:VCALENDAR
PRODID:-//45.79.5.212//NONSGML iCalcreator 2.6//
VERSION:2.0
BEGIN:VEVENT
UID:20230806T211039CEST-1739U3tRr3@45.79.5.212
DTSTAMP:20230806T191039Z
CATEGORIES:American University of Puerto Rico Events
DESCRIPTION:
DTSTART:20220503T000000
DTEND:20220103T000000
LOCATION:
SUMMARY:Video: Día Internacional de la Mujer
END:VEVENT
END:VCALENDAR
