BEGIN:VCALENDAR
PRODID:-//45.79.5.212//NONSGML iCalcreator 2.6//
VERSION:2.0
BEGIN:VEVENT
UID:20230806T211016CEST-3099mh0DVg@45.79.5.212
DTSTAMP:20230806T191016Z
CATEGORIES:American University of Puerto Rico Events
DESCRIPTION:
DTSTART:20220921T000000
DTEND:20220113T000000
LOCATION:
SUMMARY:Actividad Día del Amor y la Amistad
END:VEVENT
END:VCALENDAR
