BEGIN:VCALENDAR
PRODID:-//45.79.5.212//NONSGML iCalcreator 2.6//
VERSION:2.0
BEGIN:VEVENT
UID:20230806T211033CEST-1363JXzwjS@45.79.5.212
DTSTAMP:20230806T191033Z
CATEGORIES:American University of Puerto Rico Events
DESCRIPTION:
DTSTART:20220503T000000
DTEND:20220113T000000
LOCATION:
SUMMARY:Semana Consejero Profesional
END:VEVENT
END:VCALENDAR
