BEGIN:VCALENDAR
PRODID:-//45.79.5.212//NONSGML iCalcreator 2.6//
VERSION:2.0
BEGIN:VEVENT
UID:20230806T211058CEST-7043BVlEHa@45.79.5.212
DTSTAMP:20230806T191058Z
CATEGORIES:American University of Puerto Rico Events
DESCRIPTION:
DTSTART:20220503T000000
DTEND:20220103T000000
LOCATION:
SUMMARY:Video: Repaso College Board febrero 2022
END:VEVENT
END:VCALENDAR
