BEGIN:VCALENDAR
PRODID:-//45.79.5.212//NONSGML iCalcreator 2.6//
VERSION:2.0
BEGIN:VEVENT
UID:20230806T211118CEST-8883MT99kU@45.79.5.212
DTSTAMP:20230806T191118Z
CATEGORIES:American University of Puerto Rico Events
DESCRIPTION:
DTSTART:20220503T000000
DTEND:20220103T000000
LOCATION:
SUMMARY:Video: Estrategias para Trabajar en tus metas
END:VEVENT
END:VCALENDAR
