BEGIN:VCALENDAR
PRODID:-//45.79.5.212//NONSGML iCalcreator 2.6//
VERSION:2.0
BEGIN:VEVENT
UID:20230805T125953CEST-7280UlpgjT@45.79.5.212
DTSTAMP:20230805T105953Z
CATEGORIES:American University of Puerto Rico Events
DESCRIPTION:
DTSTART:20220503T000000
DTEND:20220103T000000
LOCATION:
SUMMARY:Video: Bienvenidos a tu Futuro\, Tu Futuro es Ahora
END:VEVENT
END:VCALENDAR
