BEGIN:VCALENDAR
PRODID:-//45.79.5.212//NONSGML iCalcreator 2.6//
VERSION:2.0
BEGIN:VEVENT
UID:20230806T205503CEST-5811Vr0LCU@45.79.5.212
DTSTAMP:20230806T185503Z
CATEGORIES:American University of Puerto Rico Events
DESCRIPTION:
DTSTART:20220503T000000
DTEND:20220103T000000
LOCATION:
SUMMARY:Video: ¡Estudia y Completa tu grado académico!
END:VEVENT
END:VCALENDAR
